Workbook
Name b: Inst!$C$13
Name b: ULS!$C$14
Name b: #REF!
Name classe: #REF!
Name classe: #REF!
Name classe: #REF!
Name eci: Inst!$F$5
Name eci: ULS!$M$6
Name eci: #REF!
Name edo: Inst!$F$8
Name edo: ULS!$M$9
Name edo: #REF!
Name equ: Inst!$F$6
Name equ: ULS!$M$7
Name equ: #REF!
Name etr: Inst!$F$7
Name etr: ULS!$M$8
Name etr: #REF!
Name eum: Inst!$F$9
Name eum: ULS!$M$10
Name eum: #REF!
Name gci: Inst!$G$5
Name gci: ULS!$N$6
Name gci: #REF!
Name gdo: Inst!$G$8
Name gdo: ULS!$N$9
Name gdo: #REF!
Name gqu: Inst!$G$6
Name gqu: ULS!$N$7
Name gqu: #REF!
Name gtr: Inst!$G$7
Name gtr: ULS!$N$8
Name gtr: #REF!
Name gum: Inst!$G$9
Name gum: ULS!$N$10
Name gum: #REF!
Name h: Inst!$C$12
Name h: ULS!$C$13
Name h: #REF!
Name hci: Inst!$B$5
Name hci: ULS!$B$6
Name hci: #REF!
Name hdo: Inst!$B$8
Name hdo: ULS!$B$9
Name hdo: #REF!
Name hqu: Inst!$B$6
Name hqu: ULS!$B$7
Name hqu: #REF!
Name htr: Inst!$B$7
Name htr: ULS!$B$8
Name htr: #REF!
Name hum: Inst!$B$9
Name hum: ULS!$B$10
Name hum: #REF!
Name kclt: Inst!$D$26
Name kclt: ULS!$D$26
Name kclt: #REF!
Name material: #REF!
Name material: #REF!
Name material: #REF!

Sheet ULS
A2: Dimensões e Propriedades da secção
E3: M.s estáticos em relação ao topo | K3: Emean (N/mm2) | L3: Gmean (N/mm2) | M3: Emean,fin,ULS (N/mm2) | N3: Gmean,fin,ULS (N/mm2) | O3: Emean,fin,ULS (N/mm2) | P3: Gmean,fin,ULS (N/mm2) | Q3: fc,0,k (N/mm2) | R3: fc,0,d (N/mm2)
B5: h (mm) | C5: b (mm) | D5: A (mm2) | E5: S (mm3) | G5: kmod | H5: ϒm | J5: kdef
A6: Lamela 5 | B6: 40 | C6: 1000 | D6: =C6*B6 -> 40000 | E6: =C6*B6*(B6/2) -> 800000 | G6: =MAX(E32:E33) -> 0.7 | H6: 1.3 | J6: 0.6 | K6: =11000 -> 11000 | L6: =690 -> 690 | M6: =K6/(1+J6) -> 6875 | N6: =L6/(1+J6) -> 431.25 | O6: =K6/(1+D32*J6) -> 6875 | P6: =L6/(1+D32*J6) -> 431.25 | Q6: 21 | R6: =Q6*G6/H6 -> 11.307692
A7: Lamela 4 | B7: =hci -> 40 | C7: 1000 | D7: =C7*B7 -> 40000 | E7: =C7*B7*(B6+B7/2) -> 2400000 | J7: 2.3 | K7: 370 | L7: 69 | M7: =K7/(1+J7) -> 112.12121 | N7: =L7/(1+J7) -> 20.909091 | O7: =K7/(1+D32*J7) -> 112.12121 | P7: =L7/(1+D32*J7) -> 20.909091 | Q7: -
A8: Lamela 3 | B8: 30 | C8: 1000 | D8: =C8*B8 -> 30000 | E8: =C8*B8*(B6+B7+B8/2) -> 2850000 | J8: 7 | K8: 3.811 | L8: 3.012 | M8: =K8/(1+J8) -> 0.476375 | N8: =L8/(1+J8) -> 0.3765 | O8: =K8/(1+D32*L8) -> 0.9499003 | P8: =L8/(1+D32*J8) -> 0.3765 | Q8: -
A9: Lamela 2 | B9: =hqu -> 40 | C9: 1000 | D9: =C9*B9 -> 40000 | E9: =C9*B9*(B6+B7+B8+B9/2) -> 5200000 | J9: =J7 -> 2.3 | K9: =K7 -> 370 | L9: =L7 -> 69 | M9: =K9/(1+J9) -> 112.12121 | N9: =L9/(1+J9) -> 20.909091 | O9: =K9/(1+D32*J9) -> 112.12121 | P9: =L9/(1+D32*J9) -> 20.909091 | Q9: -
A10: Lamela 1 | B10: =hci -> 40 | C10: 1000 | D10: =C10*B10 -> 40000 | E10: =C10*B10*(B6+B7+B8+B9+B10/2) -> 6800000 | J10: =J6 -> 0.6 | K10: =K6 -> 11000 | L10: =L6 -> 690 | M10: =K10/(1+J10) -> 6875 | N10: =L10/(1+J10) -> 431.25 | O10: =K10/(1+D32*J10) -> 6875 | P10: =L10/(1+D32*J10) -> 431.25 | Q10: =Q6 -> 21 | R10: =R6 -> 11.307692
B12: H | C12: 3000 | D12: mm
B13: h | C13: =SUM(B6:B10) -> 190 | D13: mm
B14: b | C14: =C6 -> 1000 | D14: mm
B15: posição do e.n em relação ao topo da secção: n | C15: =(M6*E6+M7*E7+M8*E8+M9*E9+M10*E10)/(M6*B6*C6+M7*B7*C7+M8*B8*C8+M9*B9*C9+M10*B10*C10) -> 95 | D15: mm
A17: Inércia e Propriedades de Rigidez
B18: distancia do cg da | C18: Inércia de cada lamela em | D18: Rigidez de cada lamela em
B19: lamela ao en | C19: relação ao eixo neutro | D19: relação ao e.n da secção
B20: e (mm) | C20: I (mm4) | D20: E.I (N.mm2) | E20: E.I (N.mm2)
A21: Lamela 5 | B21: =ABS(C15-B6/2) -> 75 | C21: =C6*B6^3/12+D6*B21^2 -> 2.3033333e+08 | D21: =C21*M6 -> 1.5835417e+12
A22: Lamela 4 | B22: =ABS(C15-B6-B7/2) -> 35 | C22: =C7*B7^3/12+D7*B22^2 -> 54333333 | D22: =C22*M7 -> 6.0919192e+09
A23: Lamela 3 | B23: =ABS(C15-B6-B7-B8/2) -> 0 | C23: =C8*B8^3/12+D8*B23^2 -> 2250000 | D23: =C23*M8 -> 1071843.8
A24: Lamela 2 | B24: =ABS(C15-B6-B7-B8-B9/2) -> 35 | C24: =C9*B9^3/12+D9*B24^2 -> 54333333 | D24: =C24*M9 -> 6.0919192e+09
A25: Lamela 1 | B25: =ABS(C15-B6-B7-B8-B9-B10/2) -> 75 | C25: =C10*B10^3/12+D10*B25^2 -> 2.3033333e+08 | D25: =C25*M10 -> 1.5835417e+12
D26: =SUM(D21:D25) -> 3.1792682e+12 | E26: GACLT | F26: =60*gci*gdo*gqu*gtr*gum*kclt^2/(b*(8*h^5*etr^2*gci*gdo*gqu*gum-40*h^4*(n*etr-edo*hdo+etr*(hdo+hum)-eum*hum)*etr*gci*gdo*gqu*gum+20*h^3*(4*n^2*etr^2-8*n*(edo*hdo-etr*(hdo+hum)+eum*hum)*etr+3*edo^2*hdo^2-edo*(etr*(7*hdo+8*hum)-6*eum*hum)*hdo+4*etr^2*(hdo^2+2*hdo*hum+hum^2)-etr*eum*(6*hdo+7*hum)*hum+3*eum^2*hum^2)*gci*gdo*gqu*gum-20*h^2*(4*n^3*etr^2*gdo*gum-12*n^2*(edo*hdo-etr*(hdo+hum)+eum*hum)*etr*gdo*gum+3*n*(3*edo^2*hdo^2-edo*(etr*(7*hdo+8*hum)-6*eum*hum)*hdo+4*etr^2*(hdo^2+2*hdo*hum+hum^2)-etr*eum*(6*hdo+7*hum)*hum+3*eum^2*hum^2)*gdo*gum+edo^2*(3*gdo*(2*hdo+3*hum)-gtr*hdo)*gum*hdo^2-3*edo*(etr*gdo*(3*hdo^2+7*hdo*hum+4*hum^2)-eum*(gdo*(3*hdo+5*hum)-gtr*hdo)*hum)*gum*hdo+4*etr^2*gdo*gum*(hdo+hum)*(hdo^2+2*hdo*hum+hum^2)-3*etr*eum*gdo*gum*(2*hdo^2+5*hdo*hum+3*hum^2)*hum-eum^2*(gdo*(gtr*hum-3*gum*(hdo+2*hum))+3*gtr*gum*hdo)*hum^2)*gci*gqu+5*h*(8*n^4*etr^2*gdo*gum-32*n^3*(edo*hdo-etr*(hdo+hum)+eum*hum)*etr*gdo*gum+12*n^2*(3*edo^2*hdo^2-edo*(etr*(7*hdo+8*hum)-6*eum*hum)*hdo+4*etr^2*(hdo^2+2*hdo*hum+hum^2)-etr*eum*(6*hdo+7*hum)*hum+3*eum^2*hum^2)*gdo*gum+8*n*(edo^2*(3*gdo*(2*hdo+3*hum)-gtr*hdo)*gum*hdo^2-3*edo*(etr*gdo*(3*hdo^2+7*hdo*hum+4*hum^2)-eum*(gdo*(3*hdo+5*hum)-gtr*hdo)*hum)*gum*hdo+4*etr^2*gdo*gum*(hdo+hum)*(hdo^2+2*hdo*hum+hum^2)-3*etr*eum*gdo*gum*(2*hdo^2+5*hdo*hum+3*hum^2)*hum-eum^2*(gdo*(gtr*hum-3*gum*(hdo+2*hum))+3*gtr*gum*hdo)*hum^2)+edo^2*(3*gdo*(hdo+2*hum)*(5*hdo+6*hum)-gtr*hdo*(3*hdo+8*hum))*gum*hdo^2-2*edo*(2*etr*gdo*(5*hdo^3+18*hdo^2*hum+21*hdo*hum^2+8*hum^3)-eum*(3*gdo*(2*hdo^2+9*hdo*hum+8*hum^2)-gtr*hdo*(2*hdo+9*hum))*hum)*gum*hdo+8*etr^2*gdo*gum*(hdo^2+2*hdo*hum+hum^2)^2-4*etr*eum*gdo*gum*(2*hdo^3+9*hdo^2*hum+12*hdo*hum^2+5*hum^3)*hum-3*eum^2*(gdo*(gtr*hum-gum*(4*hdo+5*hum))+4*gtr*gum*hdo)*hum^3)*gci*gqu+40*n^4*(eci*hci+edo*hdo+equ*hqu-etr*(hci+hdo+hqu+hum)+eum*hum)*etr*gci*gdo*gqu*gum+20*n^3*(3*eci^2*hci^2+eci*(6*equ*hqu-etr*(7*hci+6*hqu))*hci-3*edo^2*hdo^2+edo*(etr*(7*hdo+8*hum)-6*eum*hum)*hdo+3*equ^2*hqu^2-equ*etr*(8*hci+7*hqu)*hqu+4*etr^2*(hci^2+2*hci*hqu-hdo^2-2*hdo*hum+hqu^2-hum^2)+etr*eum*(6*hdo+7*hum)*hum-3*eum^2*hum^2)*gci*gdo*gqu*gum-20*n^2*(eci^2*(3*gci*(gqu*(2*hci+hqu)-gtr*hqu)-gqu*gtr*hci)*gdo*gum*hci^2+3*eci*(equ*(gqu*(5*hci+3*hqu)-gtr*hqu)*hqu-etr*gqu*(3*hci^2+5*hci*hqu+2*hqu^2))*gci*gdo*gum*hci+(edo^2*(3*gdo*(2*hdo+3*hum)-gtr*hdo)*gqu*gum*hdo^2-3*edo*(etr*gdo*(3*hdo^2+7*hdo*hum+4*hum^2)-eum*(gdo*(3*hdo+5*hum)-gtr*hdo)*hum)*gqu*gum*hdo+equ^2*gdo*(3*gqu*(3*hci+2*hqu)-gtr*hqu)*gum*hqu^2-3*equ*etr*gdo*gqu*gum*(4*hci^2+7*hci*hqu+3*hqu^2)*hqu+(4*etr^2*gdo*gum*(hci^3+3*hci^2*hqu+3*hci*hqu^2+hdo^3+3*hdo^2*hum+3*hdo*hum^2+hqu^3+hum^3)-3*etr*eum*gdo*gum*(2*hdo^2+5*hdo*hum+3*hum^2)*hum-eum^2*(gdo*(gtr*hum-3*gum*(hdo+2*hum))+3*gtr*gum*hdo)*hum^2)*gqu)*gci)+5*n*(3*eci^2*(gci*(gqu*(5*hci+4*hqu)-4*gtr*hqu)-gqu*gtr*hci)*gdo*gum*hci^3+2*eci*(equ*(3*gqu*(8*hci^2+9*hci*hqu+2*hqu^2)-gtr*(9*hci+2*hqu)*hqu)*hqu-2*etr*gqu*(5*hci^3+12*hci^2*hqu+9*hci*hqu^2+2*hqu^3))*gci*gdo*gum*hci-(edo^2*(3*gdo*(hdo+2*hum)*(5*hdo+6*hum)-gtr*hdo*(3*hdo+8*hum))*gqu*gum*hdo^2-2*edo*(2*etr*gdo*(5*hdo^3+18*hdo^2*hum+21*hdo*hum^2+8*hum^3)-eum*(3*gdo*(2*hdo^2+9*hdo*hum+8*hum^2)-gtr*hdo*(2*hdo+9*hum))*hum)*gqu*gum*hdo-equ^2*gdo*(3*gqu*(2*hci+hqu)*(6*hci+5*hqu)-gtr*(8*hci+3*hqu)*hqu)*gum*hqu^2+4*equ*etr*gdo*gqu*gum*(8*hci^3+21*hci^2*hqu+18*hci*hqu^2+5*hqu^3)*hqu-(8*etr^2*gdo*gum*(hci^4+4*hci^3*hqu+6*hci^2*hqu^2+4*hci*hqu^3-hdo^4-4*hdo^3*hum-6*hdo^2*hum^2-4*hdo*hum^3+hqu^4-hum^4)+4*etr*eum*gdo*gum*(2*hdo^3+9*hdo^2*hum+12*hdo*hum^2+5*hum^3)*hum+3*eum^2*(gdo*(gtr*hum-gum*(4*hdo+5*hum))+4*gtr*gum*hdo)*hum^3)*gqu)*gci)-3*eci^2*(5*gci*(gqu*(hci+hqu)-gtr*hqu)-gqu*gtr*hci)*gdo*gum*hci^4-10*eci*(equ*(3*gqu*(hci+hqu)*(2*hci+hqu)-gtr*(3*hci+hqu)*hqu)*hqu-2*etr*gqu*(hci+hqu)*(hci^2+2*hci*hqu+hqu^2))*gci*gdo*gum*hci^2-(edo^2*(15*gdo*(hdo+hum)*(hdo+2*hum)^2-gtr*hdo*(3*hdo^2+15*hdo*hum+20*hum^2))*gqu*gum*hdo^2-10*edo*(2*etr*gdo*(hdo+hum)*(hdo+2*hum)*(hdo^2+2*hdo*hum+hum^2)-eum*(3*gdo*(hdo+hum)*(hdo+2*hum)-gtr*hdo*(hdo+3*hum))*hum^2)*gqu*gum*hdo+equ^2*gdo*(15*gqu*(hci+hqu)*(2*hci+hqu)^2-gtr*(20*hci^2+15*hci*hqu+3*hqu^2)*hqu)*gum*hqu^2-20*equ*etr*gdo*gqu*gum*(hci+hqu)*(2*hci+hqu)*(hci^2+2*hci*hqu+hqu^2)*hqu+(8*etr^2*gdo*gum*(hci^5+5*hci^4*hqu+10*hci^3*hqu^2+10*hci^2*hqu^3+5*hci*hqu^4+hdo^5+5*hdo^4*hum+10*hdo^3*hum^2+10*hdo^2*hum^3+5*hdo*hum^4+hqu^5+hum^5)-20*etr*eum*gdo*gum*(hdo+hum)*(hdo^2+2*hdo*hum+hum^2)*hum^2-3*eum^2*(gdo*(gtr*hum-5*gum*(hdo+hum))+5*gtr*gum*hdo)*hum^4)*gqu)*gci)) -> 280101.19
D27: EICLTULS
A29: Esforços
D31: Ψ2 | E31: kmod
A32: Gk (kN/m) | B32: 30 | D32: 1 | E32: 0.6
A33: Qk (kN/m) | B33: 30 | D33: - | E33: 0.7
A34: N ULS | B34: =(1.35*(B32+650*0.00981*(D6+D7+D9+D10)*C12*10^-9+40*0.00981*(D8)*C12*10^-9)+1.5*B33)*1000 -> 89679.649 | C34: N
A36: Tensões normais devido à compressão
A38: σc (N/mm2) | B38: =B34/(D6+D10) -> 1.1209956
A40: Instabilidade
A42: lv/l | B42: 1
A43: EI005 (N.mm2) | B43: =Inst!kclt -> 2.6493911e+12
A44: GA005 (N.mm2) | B44: =Inst!F26 -> 233417.06
A45: Pcr (N) | B45: =PI()^2*B43/(B42*C12)^2*1/(1+PI()^2/(B42*C12)^2*B43/B44) -> 216058.98
A46: λrel | B46: =SQRT((D6+D10)*Q6/B45) -> 2.7884861
A47: βc | B47: 0.2
A48: k | B48: =0.5*(1+B47*(B46-0.3)+B46^2) -> 4.6366759
A49: kc | B49: =MIN(1,1/(B48+SQRT(B48^2-B46^2))) -> 0.11988758
A50: Interação | B50: =B38/(B49*R6) -> 0.8269052 | D50: =IF(1<B50,"NÃO VERIFICA","OK") -> OK
B52: Resumo das verificações
B54: Instabilidade | D54: =D50 -> OK

Sheet Inst
A2: Dimensões e Propriedades da secção | E2: M.s estáticos em relação ao topo | F2: E005(N/mm2) | G2: G005(N/mm2)
B4: h (mm) | C4: b (mm) | D4: A (mm2) | E4: S (mm3)
A5: =ULS!A6 -> Lamela 5 | B5: =ULS!B6 -> 40 | C5: =ULS!C6 -> 1000 | D5: =ULS!D6 -> 40000 | E5: =ULS!E6 -> 800000 | F5: =ULS!O6*5/6 -> 5729.1667 | G5: =ULS!P6*5/6 -> 359.375
A6: =ULS!A7 -> Lamela 4 | B6: =ULS!B7 -> 40 | C6: =ULS!C7 -> 1000 | D6: =ULS!D7 -> 40000 | E6: =ULS!E7 -> 2400000 | F6: =ULS!O7*5/6 -> 93.434343 | G6: =ULS!P7*5/6 -> 17.424242
A7: =ULS!A8 -> Lamela 3 | B7: =ULS!B8 -> 30 | C7: =ULS!C8 -> 1000 | D7: =ULS!D8 -> 30000 | E7: =ULS!E8 -> 2850000 | F7: =ULS!O8*5/6 -> 0.79158358 | G7: =ULS!P8*5/6 -> 0.31375
A8: =ULS!A9 -> Lamela 2 | B8: =ULS!B9 -> 40 | C8: =ULS!C9 -> 1000 | D8: =ULS!D9 -> 40000 | E8: =ULS!E9 -> 5200000 | F8: =ULS!O9*5/6 -> 93.434343 | G8: =ULS!P9*5/6 -> 17.424242
A9: =ULS!A10 -> Lamela 1 | B9: =ULS!B10 -> 40 | C9: =ULS!C10 -> 1000 | D9: =ULS!D10 -> 40000 | E9: =ULS!E10 -> 6800000 | F9: =ULS!O10*5/6 -> 5729.1667 | G9: =ULS!P10*5/6 -> 359.375
B11: L | C11: =ULS!C12 -> 3000 | D11: mm
B12: h | C12: =SUM(B5:B9) -> 190 | D12: mm
B13: b | C13: =C5 -> 1000 | D13: mm
B14: posição do e.n em relação ao topo da secção: n | C14: =(F5*E5+F6*E6+F7*E7+F8*E8+F9*E9)/(F5*B5*C5+F6*B6*C6+F7*B7*C7+F8*B8*C8+F9*B9*C9) -> 95 | D14: mm
A17: Inércia e Propriedades de Rigidez
B18: distancia do cg da | C18: Inércia de cada lamela em | D18: Rigidez de cada lamela em
B19: lamela ao en | C19: relação ao eixo neutro | D19: relação ao e.n da secção
B20: e (mm) | C20: I (mm4) | D20: E.I (N.mm2) | E20: E.I (N.mm2)
A21: Lamela 5 | B21: =ABS(C14-B5/2) -> 75 | C21: =C5*B5^3/12+D5*B21^2 -> 2.3033333e+08 | D21: =C21*F5 -> 1.3196181e+12
A22: Lamela 4 | B22: =ABS(C14-B5-B6/2) -> 35 | C22: =C6*B6^3/12+D6*B22^2 -> 54333333 | D22: =C22*F6 -> 5.0765993e+09
A23: Lamela 3 | B23: =ABS(C14-B5-B6-B7/2) -> 0 | C23: =C7*B7^3/12+D7*B23^2 -> 2250000 | D23: =C23*F7 -> 1781063.1
A24: Lamela 2 | B24: =ABS(C14-B5-B6-B7-B8/2) -> 35 | C24: =C8*B8^3/12+D8*B24^2 -> 54333333 | D24: =C24*F8 -> 5.0765993e+09
A25: Lamela 1 | B25: =ABS(C14-B5-B6-B7-B8-B9/2) -> 75 | C25: =C9*B9^3/12+D9*B25^2 -> 2.3033333e+08 | D25: =C25*F9 -> 1.3196181e+12 | F25: ATENÇÃO - Não é válida para secçoes com b variavel
D26: =SUM(D21:D25) -> 2.6493911e+12 | E26: GACLT | F26: =60*gci*gdo*gqu*gtr*gum*kclt^2/(b*(8*h^5*etr^2*gci*gdo*gqu*gum-40*h^4*(n*etr-edo*hdo+etr*(hdo+hum)-eum*hum)*etr*gci*gdo*gqu*gum+20*h^3*(4*n^2*etr^2-8*n*(edo*hdo-etr*(hdo+hum)+eum*hum)*etr+3*edo^2*hdo^2-edo*(etr*(7*hdo+8*hum)-6*eum*hum)*hdo+4*etr^2*(hdo^2+2*hdo*hum+hum^2)-etr*eum*(6*hdo+7*hum)*hum+3*eum^2*hum^2)*gci*gdo*gqu*gum-20*h^2*(4*n^3*etr^2*gdo*gum-12*n^2*(edo*hdo-etr*(hdo+hum)+eum*hum)*etr*gdo*gum+3*n*(3*edo^2*hdo^2-edo*(etr*(7*hdo+8*hum)-6*eum*hum)*hdo+4*etr^2*(hdo^2+2*hdo*hum+hum^2)-etr*eum*(6*hdo+7*hum)*hum+3*eum^2*hum^2)*gdo*gum+edo^2*(3*gdo*(2*hdo+3*hum)-gtr*hdo)*gum*hdo^2-3*edo*(etr*gdo*(3*hdo^2+7*hdo*hum+4*hum^2)-eum*(gdo*(3*hdo+5*hum)-gtr*hdo)*hum)*gum*hdo+4*etr^2*gdo*gum*(hdo+hum)*(hdo^2+2*hdo*hum+hum^2)-3*etr*eum*gdo*gum*(2*hdo^2+5*hdo*hum+3*hum^2)*hum-eum^2*(gdo*(gtr*hum-3*gum*(hdo+2*hum))+3*gtr*gum*hdo)*hum^2)*gci*gqu+5*h*(8*n^4*etr^2*gdo*gum-32*n^3*(edo*hdo-etr*(hdo+hum)+eum*hum)*etr*gdo*gum+12*n^2*(3*edo^2*hdo^2-edo*(etr*(7*hdo+8*hum)-6*eum*hum)*hdo+4*etr^2*(hdo^2+2*hdo*hum+hum^2)-etr*eum*(6*hdo+7*hum)*hum+3*eum^2*hum^2)*gdo*gum+8*n*(edo^2*(3*gdo*(2*hdo+3*hum)-gtr*hdo)*gum*hdo^2-3*edo*(etr*gdo*(3*hdo^2+7*hdo*hum+4*hum^2)-eum*(gdo*(3*hdo+5*hum)-gtr*hdo)*hum)*gum*hdo+4*etr^2*gdo*gum*(hdo+hum)*(hdo^2+2*hdo*hum+hum^2)-3*etr*eum*gdo*gum*(2*hdo^2+5*hdo*hum+3*hum^2)*hum-eum^2*(gdo*(gtr*hum-3*gum*(hdo+2*hum))+3*gtr*gum*hdo)*hum^2)+edo^2*(3*gdo*(hdo+2*hum)*(5*hdo+6*hum)-gtr*hdo*(3*hdo+8*hum))*gum*hdo^2-2*edo*(2*etr*gdo*(5*hdo^3+18*hdo^2*hum+21*hdo*hum^2+8*hum^3)-eum*(3*gdo*(2*hdo^2+9*hdo*hum+8*hum^2)-gtr*hdo*(2*hdo+9*hum))*hum)*gum*hdo+8*etr^2*gdo*gum*(hdo^2+2*hdo*hum+hum^2)^2-4*etr*eum*gdo*gum*(2*hdo^3+9*hdo^2*hum+12*hdo*hum^2+5*hum^3)*hum-3*eum^2*(gdo*(gtr*hum-gum*(4*hdo+5*hum))+4*gtr*gum*hdo)*hum^3)*gci*gqu+40*n^4*(eci*hci+edo*hdo+equ*hqu-etr*(hci+hdo+hqu+hum)+eum*hum)*etr*gci*gdo*gqu*gum+20*n^3*(3*eci^2*hci^2+eci*(6*equ*hqu-etr*(7*hci+6*hqu))*hci-3*edo^2*hdo^2+edo*(etr*(7*hdo+8*hum)-6*eum*hum)*hdo+3*equ^2*hqu^2-equ*etr*(8*hci+7*hqu)*hqu+4*etr^2*(hci^2+2*hci*hqu-hdo^2-2*hdo*hum+hqu^2-hum^2)+etr*eum*(6*hdo+7*hum)*hum-3*eum^2*hum^2)*gci*gdo*gqu*gum-20*n^2*(eci^2*(3*gci*(gqu*(2*hci+hqu)-gtr*hqu)-gqu*gtr*hci)*gdo*gum*hci^2+3*eci*(equ*(gqu*(5*hci+3*hqu)-gtr*hqu)*hqu-etr*gqu*(3*hci^2+5*hci*hqu+2*hqu^2))*gci*gdo*gum*hci+(edo^2*(3*gdo*(2*hdo+3*hum)-gtr*hdo)*gqu*gum*hdo^2-3*edo*(etr*gdo*(3*hdo^2+7*hdo*hum+4*hum^2)-eum*(gdo*(3*hdo+5*hum)-gtr*hdo)*hum)*gqu*gum*hdo+equ^2*gdo*(3*gqu*(3*hci+2*hqu)-gtr*hqu)*gum*hqu^2-3*equ*etr*gdo*gqu*gum*(4*hci^2+7*hci*hqu+3*hqu^2)*hqu+(4*etr^2*gdo*gum*(hci^3+3*hci^2*hqu+3*hci*hqu^2+hdo^3+3*hdo^2*hum+3*hdo*hum^2+hqu^3+hum^3)-3*etr*eum*gdo*gum*(2*hdo^2+5*hdo*hum+3*hum^2)*hum-eum^2*(gdo*(gtr*hum-3*gum*(hdo+2*hum))+3*gtr*gum*hdo)*hum^2)*gqu)*gci)+5*n*(3*eci^2*(gci*(gqu*(5*hci+4*hqu)-4*gtr*hqu)-gqu*gtr*hci)*gdo*gum*hci^3+2*eci*(equ*(3*gqu*(8*hci^2+9*hci*hqu+2*hqu^2)-gtr*(9*hci+2*hqu)*hqu)*hqu-2*etr*gqu*(5*hci^3+12*hci^2*hqu+9*hci*hqu^2+2*hqu^3))*gci*gdo*gum*hci-(edo^2*(3*gdo*(hdo+2*hum)*(5*hdo+6*hum)-gtr*hdo*(3*hdo+8*hum))*gqu*gum*hdo^2-2*edo*(2*etr*gdo*(5*hdo^3+18*hdo^2*hum+21*hdo*hum^2+8*hum^3)-eum*(3*gdo*(2*hdo^2+9*hdo*hum+8*hum^2)-gtr*hdo*(2*hdo+9*hum))*hum)*gqu*gum*hdo-equ^2*gdo*(3*gqu*(2*hci+hqu)*(6*hci+5*hqu)-gtr*(8*hci+3*hqu)*hqu)*gum*hqu^2+4*equ*etr*gdo*gqu*gum*(8*hci^3+21*hci^2*hqu+18*hci*hqu^2+5*hqu^3)*hqu-(8*etr^2*gdo*gum*(hci^4+4*hci^3*hqu+6*hci^2*hqu^2+4*hci*hqu^3-hdo^4-4*hdo^3*hum-6*hdo^2*hum^2-4*hdo*hum^3+hqu^4-hum^4)+4*etr*eum*gdo*gum*(2*hdo^3+9*hdo^2*hum+12*hdo*hum^2+5*hum^3)*hum+3*eum^2*(gdo*(gtr*hum-gum*(4*hdo+5*hum))+4*gtr*gum*hdo)*hum^3)*gqu)*gci)-3*eci^2*(5*gci*(gqu*(hci+hqu)-gtr*hqu)-gqu*gtr*hci)*gdo*gum*hci^4-10*eci*(equ*(3*gqu*(hci+hqu)*(2*hci+hqu)-gtr*(3*hci+hqu)*hqu)*hqu-2*etr*gqu*(hci+hqu)*(hci^2+2*hci*hqu+hqu^2))*gci*gdo*gum*hci^2-(edo^2*(15*gdo*(hdo+hum)*(hdo+2*hum)^2-gtr*hdo*(3*hdo^2+15*hdo*hum+20*hum^2))*gqu*gum*hdo^2-10*edo*(2*etr*gdo*(hdo+hum)*(hdo+2*hum)*(hdo^2+2*hdo*hum+hum^2)-eum*(3*gdo*(hdo+hum)*(hdo+2*hum)-gtr*hdo*(hdo+3*hum))*hum^2)*gqu*gum*hdo+equ^2*gdo*(15*gqu*(hci+hqu)*(2*hci+hqu)^2-gtr*(20*hci^2+15*hci*hqu+3*hqu^2)*hqu)*gum*hqu^2-20*equ*etr*gdo*gqu*gum*(hci+hqu)*(2*hci+hqu)*(hci^2+2*hci*hqu+hqu^2)*hqu+(8*etr^2*gdo*gum*(hci^5+5*hci^4*hqu+10*hci^3*hqu^2+10*hci^2*hqu^3+5*hci*hqu^4+hdo^5+5*hdo^4*hum+10*hdo^3*hum^2+10*hdo^2*hum^3+5*hdo*hum^4+hqu^5+hum^5)-20*etr*eum*gdo*gum*(hdo+hum)*(hdo^2+2*hdo*hum+hum^2)*hum^2-3*eum^2*(gdo*(gtr*hum-5*gum*(hdo+hum))+5*gtr*gum*hdo)*hum^4)*gqu)*gci)) -> 233417.06
D27: EICLTULS
